BEGIN:VCALENDAR
VERSION:2.0
PRODID:-//hacksw/handcal//NONSGML v1.0//EN
BEGIN:VEVENT
UID:7e0f2df9e1d2298a78488dd6d6910c01
DTSTAMP:20260420T020653Z

DTSTART:20250806T100000
DTEND:20250806T120000
SUMMARY:Legacy Building - Aug 6
DESCRIPTION:Legacy Building through Estate Planning. We will discuss various methodologies of proper Estate Planning to build and protect legacy assets (specifically Real Estate) in order to care for your loved in the event of death or incapacity.\n\nTopics Include:\n• Defining an Estate and a Legacy\n• Intestacy + Probate\n• Will vs a Pour Over Will\n• Types of Trusts: Revocable + Irrevocable\n• Trust and LLC combinations\n• Probate Avoidance vs. Asset + Creditor Protection\n• How to Protect Minor Children in the event of Death or Incapacity\n\nCost - $20\nCredits - 2

X-ALT-DESC;FMTTYPE=text/html:<!DOCTYPE HTML PUBLIC "-//W3C//DTD HTML 3.2//EN">\n<HTML>\n<HEAD>\n<META NAME="Generator" CONTENT="MS Exchange Server version 08.00.0681.000">\n<TITLE></TITLE>\n</HEAD>\n<BODY>\n<!-- Converted from text/rtf format -->\n\nLegacy Building through Estate Planning. We will discuss various methodologies of proper Estate Planning to build and protect legacy assets (specifically Real Estate) in order to care for your loved in the event of death or incapacity.<br /><br />Topics Include:<br />• Defining an Estate and a Legacy<br />• Intestacy + Probate<br />• Will vs a Pour Over Will<br />• Types of Trusts: Revocable + Irrevocable<br />• Trust and LLC combinations<br />• Probate Avoidance vs. Asset + Creditor Protection<br />• How to Protect Minor Children in the event of Death or Incapacity<br /><br />Cost - $20<br />Credits - 2\n\n</BODY>\n</HTML>

LOCATION:
END:VEVENT

END:VCALENDAR
