BEGIN:VCALENDAR
VERSION:2.0
PRODID:-//hacksw/handcal//NONSGML v1.0//EN
BEGIN:VEVENT
UID:13c1b3aca2a6384602feacb7228ce467
DTSTAMP:20260420T040923Z

DTSTART:20190912T090000
DTEND:20190912T130000
SUMMARY:Annual Commission Update 4CE 
DESCRIPTION:When- Thursday, September 12, 2019 9:00 AM - 1:00 PM \nCost- $30.00 \nWhere- American Dream Mortgage (DTC) 6501 E Belleview Ave #410 Englewood, CO 80111 \n\nDescription \nJoin us for the Mandatory Annual Commission Update course! This mandatory course provides the latest updates for Colorado real estate agents and equips you with information surrounding property disclosure issues, wire fraud, firpta and more. \n\nInstructor Lizz Walters \nSponsor Angie Livin @ Homestead Title

X-ALT-DESC;FMTTYPE=text/html:<!DOCTYPE HTML PUBLIC "-//W3C//DTD HTML 3.2//EN">\n<HTML>\n<HEAD>\n<META NAME="Generator" CONTENT="MS Exchange Server version 08.00.0681.000">\n<TITLE></TITLE>\n</HEAD>\n<BODY>\n<!-- Converted from text/rtf format -->\n\nWhen- Thursday, September 12, 2019 9:00 AM - 1:00 PM <br />Cost- $30.00 <br />Where- American Dream Mortgage (DTC) 6501 E Belleview Ave #410 Englewood, CO 80111 <br /><br />Description <br />Join us for the Mandatory Annual Commission Update course! This mandatory course provides the latest updates for Colorado real estate agents and equips you with information surrounding property disclosure issues, wire fraud, firpta and more. <br /><br />Instructor Lizz Walters <br />Sponsor Angie Livin @ Homestead Title\n\n</BODY>\n</HTML>

LOCATION:6501 E Belleview Ave #410, Englewood, CO 80111, USA
END:VEVENT

END:VCALENDAR
