BEGIN:VCALENDAR
VERSION:2.0
PRODID:-//hacksw/handcal//NONSGML v1.0//EN
BEGIN:VEVENT
UID:b5189dc5c00f38d9c10db8b1555fec15
DTSTAMP:20260420T070227Z

DTSTART:20250918T100000
DTEND:20250918T120000
SUMMARY:Beyond The Grave: Probate Alternatives
DESCRIPTION:Presented By Kyle England of First Integrity Title\n2 CE | No Cost\n\nThis two-part class equips real estate agents with essential knowledge to handle probate-related transactions.\nPart 1: Understanding Probate.\nGain an overview of Colorado’s probate process, including the legal requirements for selling a property from an estate.\nPart 2: Probate Alternatives.\nExplore why people seek to avoid probate and learn common strategies such as trusts, joint tenancy, and beneficiary deeds.\nBoth sessions will help agents confidently discuss probate and probate alternatives with clients, ensuring smoother transactions when these ownership situations arise.

X-ALT-DESC;FMTTYPE=text/html:<!DOCTYPE HTML PUBLIC "-//W3C//DTD HTML 3.2//EN">\n<HTML>\n<HEAD>\n<META NAME="Generator" CONTENT="MS Exchange Server version 08.00.0681.000">\n<TITLE></TITLE>\n</HEAD>\n<BODY>\n<!-- Converted from text/rtf format -->\n\nPresented By Kyle England of First Integrity Title<br />2 CE | No Cost<br /><br />This two-part class equips real estate agents with essential knowledge to handle probate-related transactions.<br />Part 1: Understanding Probate.<br />Gain an overview of Colorado’s probate process, including the legal requirements for selling a property from an estate.<br />Part 2: Probate Alternatives.<br />Explore why people seek to avoid probate and learn common strategies such as trusts, joint tenancy, and beneficiary deeds.<br />Both sessions will help agents confidently discuss probate and probate alternatives with clients, ensuring smoother transactions when these ownership situations arise.\n\n</BODY>\n</HTML>

LOCATION:
END:VEVENT

END:VCALENDAR
