BEGIN:VCALENDAR
VERSION:2.0
PRODID:-//hacksw/handcal//NONSGML v1.0//EN
BEGIN:VEVENT
UID:9410f5fdc7c1a3b9e6d061a51967af0f
DTSTAMP:20260420T074123Z

DTSTART:20251008T140000
DTEND:20251008T150000
SUMMARY:Cyber Safety in Real Estate Transactions - Oct 8
DESCRIPTION:Learn best practices to protect yourself, and your clients, from potential cyber threats and bad actors in real estate transactions. The course covers common threats like phishing, smishing, vishing, seller impersonation, and wire fraud. Attendees will learn how to identify red flags, understand best practices, as well as acquire knowledge about the steps to take if fraud occurs.\n\n1 CE\nFree\n

X-ALT-DESC;FMTTYPE=text/html:<!DOCTYPE HTML PUBLIC "-//W3C//DTD HTML 3.2//EN">\n<HTML>\n<HEAD>\n<META NAME="Generator" CONTENT="MS Exchange Server version 08.00.0681.000">\n<TITLE></TITLE>\n</HEAD>\n<BODY>\n<!-- Converted from text/rtf format -->\n\nLearn best practices to protect yourself, and your clients, from potential cyber threats and bad actors in real estate transactions. The course covers common threats like phishing, smishing, vishing, seller impersonation, and wire fraud. Attendees will learn how to identify red flags, understand best practices, as well as acquire knowledge about the steps to take if fraud occurs.<br /><br />1 CE<br />Free<br />\n\n</BODY>\n</HTML>

LOCATION:5975, Greenwood Plaza Boulevard, Greenwood Village, Arapahoe County, Colorado, 80111, United States
END:VEVENT

END:VCALENDAR
