BEGIN:VCALENDAR
VERSION:2.0
PRODID:-//hacksw/handcal//NONSGML v1.0//EN
BEGIN:VEVENT
UID:06a44042447202acc7ceb2f1549afe08
DTSTAMP:20260420T060611Z

DTSTART:20260727T110000
DTEND:20260728T160000
SUMMARY:Inman Luxury Connect 2026
DESCRIPTION:Inman Luxury Connect, the industry's premier event for elite agents and brokers working in luxury real estate, is moving from Las Vegas to San Diego in 2025. \n\nJoin us and your peers in America’s Finest City for immersive discussions with the smartest and best in the business, interactive workshops, top-tier networking, and more. \n\nYou’ll connect with the crème de la crème of luxury real estate while enjoying the beautiful beaches and vibrant culture of San Diego.

X-ALT-DESC;FMTTYPE=text/html:<!DOCTYPE HTML PUBLIC "-//W3C//DTD HTML 3.2//EN">\n<HTML>\n<HEAD>\n<META NAME="Generator" CONTENT="MS Exchange Server version 08.00.0681.000">\n<TITLE></TITLE>\n</HEAD>\n<BODY>\n<!-- Converted from text/rtf format -->\n\nInman Luxury Connect, the industry's premier event for elite agents and brokers working in luxury real estate, is moving from Las Vegas to San Diego in 2025. <br /><br />Join us and your peers in America’s Finest City for immersive discussions with the smartest and best in the business, interactive workshops, top-tier networking, and more. <br /><br />You’ll connect with the crème de la crème of luxury real estate while enjoying the beautiful beaches and vibrant culture of San Diego.\n\n</BODY>\n</HTML>

LOCATION:San Diego Marriott Marquis & Marina, 333, West Harbor Drive, Marina District, San Diego, San Diego County, California, 92101, United States
END:VEVENT

END:VCALENDAR
