BEGIN:VCALENDAR
VERSION:2.0
PRODID:-//hacksw/handcal//NONSGML v1.0//EN
BEGIN:VEVENT
UID:7a61014b15c13e70e7d93b782797c3e2
DTSTAMP:20260419T211510Z

DTSTART:20260207T090000
DTEND:20260207T160000
SUMMARY:MFIN Conference 2026
DESCRIPTION:Disrupt Equity is the host of one of the biggest Conferences in the Multifamily real estate industry, The Multifamily Investor Network Conference! The Multifamily Investor Network Conference (MFIN) is a one-day, no-sales-pitch event for multifamily investors, syndicators, and vendors to come together, network, and learn about multifamily investing from the best in the business! The MFIN Conference is packed with high-caliber speakers, workshops, and various networking opportunities to help you succeed as a multifamily investor. You will walk away with strategies for maximizing your return on investment and minimizing risk–all while building strategic relationships with like-minded individuals.

X-ALT-DESC;FMTTYPE=text/html:<!DOCTYPE HTML PUBLIC "-//W3C//DTD HTML 3.2//EN">\n<HTML>\n<HEAD>\n<META NAME="Generator" CONTENT="MS Exchange Server version 08.00.0681.000">\n<TITLE></TITLE>\n</HEAD>\n<BODY>\n<!-- Converted from text/rtf format -->\n\nDisrupt Equity is the host of one of the biggest Conferences in the Multifamily real estate industry, The Multifamily Investor Network Conference! The Multifamily Investor Network Conference (MFIN) is a one-day, no-sales-pitch event for multifamily investors, syndicators, and vendors to come together, network, and learn about multifamily investing from the best in the business! The MFIN Conference is packed with high-caliber speakers, workshops, and various networking opportunities to help you succeed as a multifamily investor. You will walk away with strategies for maximizing your return on investment and minimizing risk–all while building strategic relationships with like-minded individuals.\n\n</BODY>\n</HTML>

LOCATION:Houston, Harris County, Texas, United States
END:VEVENT

END:VCALENDAR
