BEGIN:VCALENDAR
VERSION:2.0
PRODID:-//hacksw/handcal//NONSGML v1.0//EN
BEGIN:VEVENT
UID:45a42e3c2dee2d8341ce04b21b387dcf
DTSTAMP:20260420T060750Z

DTSTART:20260217T090000
DTEND:20260219T200000
SUMMARY:2026 NAHB International Builders’ Show
DESCRIPTION:Get ready for the largest annual light construction show in the world, the NAHB International Builders' Show® (IBS)! IBS 2026 is bringing 70,000+ industry pros from 100+ countries, 1,700+ top companies and brands and 120+ powerhouse education sessions to Orlando. This is your chance to explore the latest products, connect with the best in the business and gain insights you won’t find anywhere else.\n\nIt’s the FINAL year IBS will be in Orlando, so we’re pulling out all the stops to deliver an unforgettable experience you won’t want to miss!\n\n

X-ALT-DESC;FMTTYPE=text/html:<!DOCTYPE HTML PUBLIC "-//W3C//DTD HTML 3.2//EN">\n<HTML>\n<HEAD>\n<META NAME="Generator" CONTENT="MS Exchange Server version 08.00.0681.000">\n<TITLE></TITLE>\n</HEAD>\n<BODY>\n<!-- Converted from text/rtf format -->\n\nGet ready for the largest annual light construction show in the world, the NAHB International Builders' Show® (IBS)! IBS 2026 is bringing 70,000+ industry pros from 100+ countries, 1,700+ top companies and brands and 120+ powerhouse education sessions to Orlando. This is your chance to explore the latest products, connect with the best in the business and gain insights you won’t find anywhere else.<br /><br />It’s the FINAL year IBS will be in Orlando, so we’re pulling out all the stops to deliver an unforgettable experience you won’t want to miss!<br /><br />\n\n</BODY>\n</HTML>

LOCATION:Orlando, Orange County, Florida, United States
END:VEVENT

END:VCALENDAR
