BEGIN:VCALENDAR
VERSION:2.0
PRODID:-//hacksw/handcal//NONSGML v1.0//EN
BEGIN:VEVENT
UID:d81768a44f3c4e787e4643f4c1bd45de
DTSTAMP:20260420T111448Z

DTSTART:20260413T090000
DTEND:20260416T160000
SUMMARY:2026 National Home Performance Conference
DESCRIPTION:For four decades, the National Home Performance Conference has been a launching pad for ideas, partnerships, and real progress in home performance, weatherization, and healthy housing. This milestone year is about more than looking back—it’s about building on the momentum we’ve created together and shaping the future.\n\nJoin us in Columbus in 2026 as thousands of contractors, weatherization professionals, healthy homes experts, trainers, program administrators, energy auditors, and others in residential energy efficiency gather for the latest industry education and networking.

X-ALT-DESC;FMTTYPE=text/html:<!DOCTYPE HTML PUBLIC "-//W3C//DTD HTML 3.2//EN">\n<HTML>\n<HEAD>\n<META NAME="Generator" CONTENT="MS Exchange Server version 08.00.0681.000">\n<TITLE></TITLE>\n</HEAD>\n<BODY>\n<!-- Converted from text/rtf format -->\n\nFor four decades, the National Home Performance Conference has been a launching pad for ideas, partnerships, and real progress in home performance, weatherization, and healthy housing. This milestone year is about more than looking back—it’s about building on the momentum we’ve created together and shaping the future.<br /><br />Join us in Columbus in 2026 as thousands of contractors, weatherization professionals, healthy homes experts, trainers, program administrators, energy auditors, and others in residential energy efficiency gather for the latest industry education and networking.\n\n</BODY>\n</HTML>

LOCATION:Greater Columbus Convention Center, 400, North High Street, High Street Corridor, Columbus, Franklin County, Ohio, 43215, United States
END:VEVENT

END:VCALENDAR
