BEGIN:VCALENDAR
VERSION:2.0
PRODID:-//hacksw/handcal//NONSGML v1.0//EN
BEGIN:VEVENT
UID:d813e5c7a0adc769e9248056c6bff4f4
DTSTAMP:20260420T023121Z

DTSTART:20260419T090000
DTEND:20260422T160000
SUMMARY:The BEATS Conference 2026
DESCRIPTION:The Bringing Educators & Associations Together for Success (BEATS) Conference is the must-attend event of the year for Real Estate Education Directors, Event Planners, and Speakers. It’s an incredible opportunity to learn from your peers & industry experts, discover top speakers for your future events at The Main Stage, & collaborate and connect with like-minded professionals who share your passion for elevating real estate education.

X-ALT-DESC;FMTTYPE=text/html:<!DOCTYPE HTML PUBLIC "-//W3C//DTD HTML 3.2//EN">\n<HTML>\n<HEAD>\n<META NAME="Generator" CONTENT="MS Exchange Server version 08.00.0681.000">\n<TITLE></TITLE>\n</HEAD>\n<BODY>\n<!-- Converted from text/rtf format -->\n\nThe Bringing Educators & Associations Together for Success (BEATS) Conference is the must-attend event of the year for Real Estate Education Directors, Event Planners, and Speakers. It’s an incredible opportunity to learn from your peers & industry experts, discover top speakers for your future events at The Main Stage, & collaborate and connect with like-minded professionals who share your passion for elevating real estate education.\n\n</BODY>\n</HTML>

LOCATION:The Skirvin Hilton Oklahoma City, 1, Park Avenue, Central Business District, Oklahoma City, Oklahoma County, Oklahoma, 73102, United States
END:VEVENT

END:VCALENDAR
