BEGIN:VCALENDAR
VERSION:2.0
PRODID:-//hacksw/handcal//NONSGML v1.0//EN
BEGIN:VEVENT
UID:9e3d11207a3a18fcefc86306b72997e0
DTSTAMP:20260420T090259Z

DTSTART:20260129T090000
DTEND:20260130T160000
SUMMARY:Michigan Realtors® Achieve 2026
DESCRIPTION:As the premier leadership event of Michigan Realtors®, Achieve provides leaders of every level with the tools needed to be part of the change they want to see in their local associations, offices, and communities. The event gathers highly involved Association leaders and public policy advocates from across Michigan. All members are invited to attend Achieve.

X-ALT-DESC;FMTTYPE=text/html:<!DOCTYPE HTML PUBLIC "-//W3C//DTD HTML 3.2//EN">\n<HTML>\n<HEAD>\n<META NAME="Generator" CONTENT="MS Exchange Server version 08.00.0681.000">\n<TITLE></TITLE>\n</HEAD>\n<BODY>\n<!-- Converted from text/rtf format -->\n\nAs the premier leadership event of Michigan Realtors®, Achieve provides leaders of every level with the tools needed to be part of the change they want to see in their local associations, offices, and communities. The event gathers highly involved Association leaders and public policy advocates from across Michigan. All members are invited to attend Achieve.\n\n</BODY>\n</HTML>

LOCATION:JW Marriott Grand Rapids, 235, Louis Street Northwest, Grand Rapids, Kent County, Michigan, 49503, United States
END:VEVENT

END:VCALENDAR
