BEGIN:VCALENDAR
VERSION:2.0
PRODID:-//hacksw/handcal//NONSGML v1.0//EN
BEGIN:VEVENT
UID:b48c9a6aca2e3c3310c3bb2cb4809c4e
DTSTAMP:20260420T052107Z

DTSTART:20260427T090000
DTEND:20260428T170000
SUMMARY:2026 Midwest Real Estate Investor Conference
DESCRIPTION:The Midwest Real Estate Investor Conference (MREIC) brings together investors from across the country for two days of education, connection, and opportunity. Hosted in Grand Rapids and backed by a strong regional investing community, the event is designed for action-takers at every level—from first-time buyers to experienced portfolio builders.\n\n​\n\nYou’ll find expert-led sessions, high-level keynotes, hands-on workshops, and real-world strategies you can put to work right away. With built-in time to network, pitch deals, and form lasting partnerships, this conference delivers more than insight—it helps you build momentum.

X-ALT-DESC;FMTTYPE=text/html:<!DOCTYPE HTML PUBLIC "-//W3C//DTD HTML 3.2//EN">\n<HTML>\n<HEAD>\n<META NAME="Generator" CONTENT="MS Exchange Server version 08.00.0681.000">\n<TITLE></TITLE>\n</HEAD>\n<BODY>\n<!-- Converted from text/rtf format -->\n\nThe Midwest Real Estate Investor Conference (MREIC) brings together investors from across the country for two days of education, connection, and opportunity. Hosted in Grand Rapids and backed by a strong regional investing community, the event is designed for action-takers at every level—from first-time buyers to experienced portfolio builders.<br /><br />​<br /><br />You’ll find expert-led sessions, high-level keynotes, hands-on workshops, and real-world strategies you can put to work right away. With built-in time to network, pitch deals, and form lasting partnerships, this conference delivers more than insight—it helps you build momentum.\n\n</BODY>\n</HTML>

LOCATION:Grand Rapids, Kent County, Michigan, United States
END:VEVENT

END:VCALENDAR
