BEGIN:VCALENDAR
VERSION:2.0
PRODID:-//hacksw/handcal//NONSGML v1.0//EN
BEGIN:VEVENT
UID:af4f695638d5e2331d622368b14f0caa
DTSTAMP:20260420T111505Z

DTSTART:20260427T090000
DTEND:20260429T170000
SUMMARY:Unite Real Estate Conference 2026
DESCRIPTION:Join the Inside Real Estate family for two dynamic days in Charleston, South Carolina. Connect with industry leaders, discover cutting-edge innovations, and gain actionable strategies to accelerate your success.\n\nWith inspiring keynotes, hands-on breakouts, exclusive product demos, and unparalleled networking, this is the must-attend event to seize opportunity and grow.

X-ALT-DESC;FMTTYPE=text/html:<!DOCTYPE HTML PUBLIC "-//W3C//DTD HTML 3.2//EN">\n<HTML>\n<HEAD>\n<META NAME="Generator" CONTENT="MS Exchange Server version 08.00.0681.000">\n<TITLE></TITLE>\n</HEAD>\n<BODY>\n<!-- Converted from text/rtf format -->\n\nJoin the Inside Real Estate family for two dynamic days in Charleston, South Carolina. Connect with industry leaders, discover cutting-edge innovations, and gain actionable strategies to accelerate your success.<br /><br />With inspiring keynotes, hands-on breakouts, exclusive product demos, and unparalleled networking, this is the must-attend event to seize opportunity and grow.\n\n</BODY>\n</HTML>

LOCATION:Charleston, Charleston County, South Carolina, United States
END:VEVENT

END:VCALENDAR
