BEGIN:VCALENDAR
VERSION:2.0
PRODID:-//hacksw/handcal//NONSGML v1.0//EN
BEGIN:VEVENT
UID:90ecfb032fd865559db176641f188612
DTSTAMP:20260420T041204Z

DTSTART:20260518T090000
DTEND:20260520T170000
SUMMARY:ICSC Las Vegas 2026
DESCRIPTION:ICSC LAS VEGAS is our premier event and takes place annually in May. It is a two- to three-day gathering of dealmakers and industry experts, who are driving innovation and evolution in commercial real estate. \n\nNew for 2026! ICSC+PROPTECH\nWe’re excited to introduce ICSC+PROPTECH, co-located at ICSC LAS VEGAS, spotlighting the latest in property technology through technology-focused sessions, proptech displays, and curated one-on-one meetings. To sign up, select the ICSC+PROPTECH options during registration for ICSC LAS VEGAS. 

X-ALT-DESC;FMTTYPE=text/html:<!DOCTYPE HTML PUBLIC "-//W3C//DTD HTML 3.2//EN">\n<HTML>\n<HEAD>\n<META NAME="Generator" CONTENT="MS Exchange Server version 08.00.0681.000">\n<TITLE></TITLE>\n</HEAD>\n<BODY>\n<!-- Converted from text/rtf format -->\n\nICSC LAS VEGAS is our premier event and takes place annually in May. It is a two- to three-day gathering of dealmakers and industry experts, who are driving innovation and evolution in commercial real estate. <br /><br />New for 2026! ICSC+PROPTECH<br />We’re excited to introduce ICSC+PROPTECH, co-located at ICSC LAS VEGAS, spotlighting the latest in property technology through technology-focused sessions, proptech displays, and curated one-on-one meetings. To sign up, select the ICSC+PROPTECH options during registration for ICSC LAS VEGAS. \n\n</BODY>\n</HTML>

LOCATION:Las Vegas Convention Center, 3150, Paradise Road, Las Vegas, Clark County, Nevada, 89109, United States of America
END:VEVENT

END:VCALENDAR
