BEGIN:VCALENDAR
VERSION:2.0
PRODID:-//hacksw/handcal//NONSGML v1.0//EN
BEGIN:VEVENT
UID:35e8f60dc9b97d35149ef6525888b37c
DTSTAMP:20260420T055014Z

DTSTART:20260506T070000
DTEND:20260506T170000
SUMMARY:NYC Real Estate Forum 2026
DESCRIPTION:Save the Date: TRD's NYC Real Estate Forum is back on May 6th at the Metropolitan Pavilion

X-ALT-DESC;FMTTYPE=text/html:<!DOCTYPE HTML PUBLIC "-//W3C//DTD HTML 3.2//EN">\n<HTML>\n<HEAD>\n<META NAME="Generator" CONTENT="MS Exchange Server version 08.00.0681.000">\n<TITLE></TITLE>\n</HEAD>\n<BODY>\n<!-- Converted from text/rtf format -->\n\nSave the Date: TRD's NYC Real Estate Forum is back on May 6th at the Metropolitan Pavilion\n\n</BODY>\n</HTML>

LOCATION:Metropolitan Pavilion, 125, West 18th Street, Chelsea, Manhattan Community Board 4, Manhattan, New York County, City of New York, New York, 10011, United States of America
END:VEVENT

END:VCALENDAR
