BEGIN:VCALENDAR
VERSION:2.0
PRODID:-//hacksw/handcal//NONSGML v1.0//EN
BEGIN:VEVENT
UID:766944fc6dc9a42629268f7f9b50cb15
DTSTAMP:20260420T144055Z

DTSTART:20260126T090000
DTEND:20260129T160000
SUMMARY:Illinois Realtors - REengage Winter Conference 2026
DESCRIPTION:Illinois REALTORS®\nThe Voice for Real Estate in Illinois

X-ALT-DESC;FMTTYPE=text/html:<!DOCTYPE HTML PUBLIC "-//W3C//DTD HTML 3.2//EN">\n<HTML>\n<HEAD>\n<META NAME="Generator" CONTENT="MS Exchange Server version 08.00.0681.000">\n<TITLE></TITLE>\n</HEAD>\n<BODY>\n<!-- Converted from text/rtf format -->\n\nIllinois REALTORS®<br />The Voice for Real Estate in Illinois\n\n</BODY>\n</HTML>

LOCATION:Bloomington-Normal, 11, Uptown Circle, Uptown Normal, Normal, McLean County, Illinois, 61761, United States of America
END:VEVENT

END:VCALENDAR
