BEGIN:VCALENDAR
VERSION:2.0
PRODID:-//hacksw/handcal//NONSGML v1.0//EN
BEGIN:VEVENT
UID:636e5dc2046df1b36924014559925735
DTSTAMP:20260420T072538Z

DTSTART:20260624T070000
DTEND:20260626T190000
SUMMARY:Mastermind Summit 2026
DESCRIPTION:Mastermind Summit 2026 transcends the ordinary conference—it's a powerhouse of innovation, leadership, and exceptional performance. Set against the backdrop of the iconic Bellagio Hotel in Las Vegas, this summit is designed to transform your professional trajectory and propel your career to unprecedented heights. Join us for an experience that will not only inspire but also fundamentally elevate your approach to success.

X-ALT-DESC;FMTTYPE=text/html:<!DOCTYPE HTML PUBLIC "-//W3C//DTD HTML 3.2//EN">\n<HTML>\n<HEAD>\n<META NAME="Generator" CONTENT="MS Exchange Server version 08.00.0681.000">\n<TITLE></TITLE>\n</HEAD>\n<BODY>\n<!-- Converted from text/rtf format -->\n\nMastermind Summit 2026 transcends the ordinary conference—it's a powerhouse of innovation, leadership, and exceptional performance. Set against the backdrop of the iconic Bellagio Hotel in Las Vegas, this summit is designed to transform your professional trajectory and propel your career to unprecedented heights. Join us for an experience that will not only inspire but also fundamentally elevate your approach to success.\n\n</BODY>\n</HTML>

LOCATION:Bellagio, 3600, South Las Vegas Boulevard, Las Vegas, Clark County, Nevada, 89109, United States of America
END:VEVENT

END:VCALENDAR
