BEGIN:VCALENDAR
VERSION:2.0
PRODID:-//hacksw/handcal//NONSGML v1.0//EN
BEGIN:VEVENT
UID:1b888b8c5603f3a3293c854658ad14eb
DTSTAMP:20260419T230247Z

DTSTART:20260729T090000
DTEND:20260731T160000
SUMMARY:Inman Connect San Diego 2026
DESCRIPTION:Inman Connect is where the entire industry converges, and where those doing it best share what’s really working, so you can achieve big results too. It’s where the best networking in the business can be found. \n\nWe’re going deeper: tackling commission changes, AI disruption, brokerage consolidation, and the real-world strategies you need to thrive in a tougher market. With hands-on workshops, no-fluff conversations, and the sharpest minds in the business, you’ll walk away with clarity, community, and a plan.\n\nIf you want to grow your business and invest in your number one resource — you — make plans to be there.

X-ALT-DESC;FMTTYPE=text/html:<!DOCTYPE HTML PUBLIC "-//W3C//DTD HTML 3.2//EN">\n<HTML>\n<HEAD>\n<META NAME="Generator" CONTENT="MS Exchange Server version 08.00.0681.000">\n<TITLE></TITLE>\n</HEAD>\n<BODY>\n<!-- Converted from text/rtf format -->\n\nInman Connect is where the entire industry converges, and where those doing it best share what’s really working, so you can achieve big results too. It’s where the best networking in the business can be found. <br /><br />We’re going deeper: tackling commission changes, AI disruption, brokerage consolidation, and the real-world strategies you need to thrive in a tougher market. With hands-on workshops, no-fluff conversations, and the sharpest minds in the business, you’ll walk away with clarity, community, and a plan.<br /><br />If you want to grow your business and invest in your number one resource — you — make plans to be there.\n\n</BODY>\n</HTML>

LOCATION:San Diego Marriott Marquis & Marina, 333, West Harbor Drive, Marina District, San Diego, San Diego County, California, 92101, United States of America
END:VEVENT

END:VCALENDAR
