BEGIN:VCALENDAR
VERSION:2.0
PRODID:-//hacksw/handcal//NONSGML v1.0//EN
BEGIN:VEVENT
UID:5930a0337532efa6acde5452803d48ed
DTSTAMP:20260419T192011Z

DTSTART:20260803T090000
DTEND:20260805T160000
SUMMARY:Tom Ferry – In-Person Success Summit 2026
DESCRIPTION:For 22 consecutive years, Tom Ferry’s Success Summit has earned its reputation as Real Estate’s premier annual event. You’ll get groundbreaking strategies direct from Tom Ferry, real estate’s #1 coach, off-the-charts energy, big-name guest speakers, and a world-class training experience. Join thousands of top-producing agents from around the world for three days you’ll never forget.

X-ALT-DESC;FMTTYPE=text/html:<!DOCTYPE HTML PUBLIC "-//W3C//DTD HTML 3.2//EN">\n<HTML>\n<HEAD>\n<META NAME="Generator" CONTENT="MS Exchange Server version 08.00.0681.000">\n<TITLE></TITLE>\n</HEAD>\n<BODY>\n<!-- Converted from text/rtf format -->\n\nFor 22 consecutive years, Tom Ferry’s Success Summit has earned its reputation as Real Estate’s premier annual event. You’ll get groundbreaking strategies direct from Tom Ferry, real estate’s #1 coach, off-the-charts energy, big-name guest speakers, and a world-class training experience. Join thousands of top-producing agents from around the world for three days you’ll never forget.\n\n</BODY>\n</HTML>

LOCATION:Anaheim Convention Center, 800, West Katella Avenue, Anaheim, Orange County, California, 92802, United States of America
END:VEVENT

END:VCALENDAR
