BEGIN:VCALENDAR
VERSION:2.0
PRODID:-//hacksw/handcal//NONSGML v1.0//EN
BEGIN:VEVENT
UID:a14abefa9a35eb8c408f81c389c23081
DTSTAMP:20260419T195948Z

DTSTART:20260811T070000
DTEND:20260811T190000
SUMMARY:HousingWire AI Summit 2026
DESCRIPTION:Any housing professionals including mortgage, title, real estate and valuation leaders that are excited to come together to share strategies, drive businesses, discover new technologies, discuss best practices and meet other industry playmakers.\n\n

X-ALT-DESC;FMTTYPE=text/html:<!DOCTYPE HTML PUBLIC "-//W3C//DTD HTML 3.2//EN">\n<HTML>\n<HEAD>\n<META NAME="Generator" CONTENT="MS Exchange Server version 08.00.0681.000">\n<TITLE></TITLE>\n</HEAD>\n<BODY>\n<!-- Converted from text/rtf format -->\n\nAny housing professionals including mortgage, title, real estate and valuation leaders that are excited to come together to share strategies, drive businesses, discover new technologies, discuss best practices and meet other industry playmakers.<br /><br />\n\n</BODY>\n</HTML>

LOCATION:George W. Bush Presidential Center, North Central Expressway, University Crossing PID, Dallas, Dallas County, Texas, 75275, United States of America
END:VEVENT

END:VCALENDAR
