BEGIN:VCALENDAR
VERSION:2.0
PRODID:-//hacksw/handcal//NONSGML v1.0//EN
BEGIN:VEVENT
UID:59dadb213dbdea1e93e6a95d876d623e
DTSTAMP:20260420T030513Z

DTSTART:20260819T090000
DTEND:20260820T170000
SUMMARY:2026 Florida Realtors Convention & Trade Expo
DESCRIPTION:There’s something for everyone at this annual event. Anyone who’s connected to the business of real estate has something to gain and learn by attending this event. Real estate isn’t just about selling properties; it’s about connecting so that business is better for all. Many of the attendees are sales associates and brokers. In the mix, you’ll also find:\n\nProperty managers\nCommercial and residential investors\nAuction specialists\nBanking executives\nMortgage lenders\nProperty appraisers\nRental and relocation experts\nInternational liaisons who work with global customers daily\nAnyone who’s connected to the business of real estate has something to gain and learn by attending this event. Real estate isn’t just about selling properties; it’s about connecting so that business is better for all.

X-ALT-DESC;FMTTYPE=text/html:<!DOCTYPE HTML PUBLIC "-//W3C//DTD HTML 3.2//EN">\n<HTML>\n<HEAD>\n<META NAME="Generator" CONTENT="MS Exchange Server version 08.00.0681.000">\n<TITLE></TITLE>\n</HEAD>\n<BODY>\n<!-- Converted from text/rtf format -->\n\nThere’s something for everyone at this annual event. Anyone who’s connected to the business of real estate has something to gain and learn by attending this event. Real estate isn’t just about selling properties; it’s about connecting so that business is better for all. Many of the attendees are sales associates and brokers. In the mix, you’ll also find:<br /><br />Property managers<br />Commercial and residential investors<br />Auction specialists<br />Banking executives<br />Mortgage lenders<br />Property appraisers<br />Rental and relocation experts<br />International liaisons who work with global customers daily<br />Anyone who’s connected to the business of real estate has something to gain and learn by attending this event. Real estate isn’t just about selling properties; it’s about connecting so that business is better for all.\n\n</BODY>\n</HTML>

LOCATION:Orlando, Orange County, Florida, United States of America
END:VEVENT

END:VCALENDAR
