BEGIN:VCALENDAR
VERSION:2.0
PRODID:-//hacksw/handcal//NONSGML v1.0//EN
BEGIN:VEVENT
UID:1415225b45659072dcc192bbd5f87855
DTSTAMP:20260420T085420Z

DTSTART:20260824T090000
DTEND:20260825T170000
SUMMARY:NAR Leadership Summit 2026
DESCRIPTION:Leadership Summit brings association executives and president-elects together to kickstart their/your year with purpose and momentum. It’s the perfect opportunity to forge relationships and lay the groundwork for maximizing the year’s potential.

X-ALT-DESC;FMTTYPE=text/html:<!DOCTYPE HTML PUBLIC "-//W3C//DTD HTML 3.2//EN">\n<HTML>\n<HEAD>\n<META NAME="Generator" CONTENT="MS Exchange Server version 08.00.0681.000">\n<TITLE></TITLE>\n</HEAD>\n<BODY>\n<!-- Converted from text/rtf format -->\n\nLeadership Summit brings association executives and president-elects together to kickstart their/your year with purpose and momentum. It’s the perfect opportunity to forge relationships and lay the groundwork for maximizing the year’s potential.\n\n</BODY>\n</HTML>

LOCATION:Sheraton Grand Chicago, 301, East North Water Street, Near North Side, Chicago, North Chicago Township, Cook County, Illinois, 60611, United States of America
END:VEVENT

END:VCALENDAR
