BEGIN:VCALENDAR
VERSION:2.0
PRODID:-//hacksw/handcal//NONSGML v1.0//EN
BEGIN:VEVENT
UID:907ba87786989dc7ba9014d36a85a6c8
DTSTAMP:20260420T040446Z

DTSTART:20260831T090000
DTEND:20260904T170000
SUMMARY:2026 Georgia Association of Realtors Annual Conference & Expo
DESCRIPTION:2026 Annual Conference & Expo\nAugust 31 – September 4, 2026\nNew Orleans Marriott\nNew Orleans, Louisiana

X-ALT-DESC;FMTTYPE=text/html:<!DOCTYPE HTML PUBLIC "-//W3C//DTD HTML 3.2//EN">\n<HTML>\n<HEAD>\n<META NAME="Generator" CONTENT="MS Exchange Server version 08.00.0681.000">\n<TITLE></TITLE>\n</HEAD>\n<BODY>\n<!-- Converted from text/rtf format -->\n\n2026 Annual Conference & Expo<br />August 31 – September 4, 2026<br />New Orleans Marriott<br />New Orleans, Louisiana\n\n</BODY>\n</HTML>

LOCATION:New Orleans Marriott, 555, Canal Street, Central Business District, French Quarter, New Orleans, Orleans Parish, Louisiana, 70119, United States of America
END:VEVENT

END:VCALENDAR
