BEGIN:VCALENDAR
VERSION:2.0
PRODID:-//hacksw/handcal//NONSGML v1.0//EN
BEGIN:VEVENT
UID:8723d163d0d5768cc9d762ee69802fbb
DTSTAMP:20260420T092850Z

DTSTART:20260914T090000
DTEND:20260916T170000
SUMMARY:Ohio Realtors Annual Convention 2026
DESCRIPTION:Annual Convention & EXPO | Sept. 14 - 16\n

X-ALT-DESC;FMTTYPE=text/html:<!DOCTYPE HTML PUBLIC "-//W3C//DTD HTML 3.2//EN">\n<HTML>\n<HEAD>\n<META NAME="Generator" CONTENT="MS Exchange Server version 08.00.0681.000">\n<TITLE></TITLE>\n</HEAD>\n<BODY>\n<!-- Converted from text/rtf format -->\n\nAnnual Convention & EXPO | Sept. 14 - 16<br />\n\n</BODY>\n</HTML>

LOCATION:Ohio, United States of America
END:VEVENT

END:VCALENDAR
