BEGIN:VCALENDAR
VERSION:2.0
PRODID:-//hacksw/handcal//NONSGML v1.0//EN
BEGIN:VEVENT
UID:fb8dbdca9fc51bbbdebdff7324c8044a
DTSTAMP:20260420T030409Z

DTSTART:20260922T090000
DTEND:20260924T170000
SUMMARY:Blueprint Vegas 2026
DESCRIPTION:Join the largest, most global gathering of industry leaders and innovators leading the charge in changing the built world - from construction to management to transaction - for three days of networking, learning, and ecosystem advancement.\n\nWith trillions of dollars of assets and the best global innovators under one roof, the future of the built world happens here.

X-ALT-DESC;FMTTYPE=text/html:<!DOCTYPE HTML PUBLIC "-//W3C//DTD HTML 3.2//EN">\n<HTML>\n<HEAD>\n<META NAME="Generator" CONTENT="MS Exchange Server version 08.00.0681.000">\n<TITLE></TITLE>\n</HEAD>\n<BODY>\n<!-- Converted from text/rtf format -->\n\nJoin the largest, most global gathering of industry leaders and innovators leading the charge in changing the built world - from construction to management to transaction - for three days of networking, learning, and ecosystem advancement.<br /><br />With trillions of dollars of assets and the best global innovators under one roof, the future of the built world happens here.\n\n</BODY>\n</HTML>

LOCATION:The Venetian Las Vegas, 3355, South Las Vegas Boulevard, Las Vegas, Clark County, Nevada, 89109, United States of America
END:VEVENT

END:VCALENDAR
