BEGIN:VCALENDAR
VERSION:2.0
PRODID:-//hacksw/handcal//NONSGML v1.0//EN
BEGIN:VEVENT
UID:3e205ff90689326fbd7466af23a77251
DTSTAMP:20260420T051823Z

DTSTART:20261027T090000
DTEND:20261029T170000
SUMMARY:Leading RE Global Symposium 2026
DESCRIPTION:Built for quality real estate companies, LeadingRE is an invite-only business-to-business community

X-ALT-DESC;FMTTYPE=text/html:<!DOCTYPE HTML PUBLIC "-//W3C//DTD HTML 3.2//EN">\n<HTML>\n<HEAD>\n<META NAME="Generator" CONTENT="MS Exchange Server version 08.00.0681.000">\n<TITLE></TITLE>\n</HEAD>\n<BODY>\n<!-- Converted from text/rtf format -->\n\nBuilt for quality real estate companies, LeadingRE is an invite-only business-to-business community\n\n</BODY>\n</HTML>

LOCATION:Barcelona, Barcelonès, Barcelona, Catalunya, España
END:VEVENT

END:VCALENDAR
