BEGIN:VCALENDAR
VERSION:2.0
PRODID:-//hacksw/handcal//NONSGML v1.0//EN
BEGIN:VEVENT
UID:c2ed79b3933c6b4b49bb821663c1fe77
DTSTAMP:20260420T004340Z

DTSTART:20260930T090000
DTEND:20261002T170000
SUMMARY:Michigan Realtor The Convention 2026
DESCRIPTION:The Convention 2026\nSeptember 30-October 2, 2026\nGrand Traverse Resort & Spa\nAcme, MI

X-ALT-DESC;FMTTYPE=text/html:<!DOCTYPE HTML PUBLIC "-//W3C//DTD HTML 3.2//EN">\n<HTML>\n<HEAD>\n<META NAME="Generator" CONTENT="MS Exchange Server version 08.00.0681.000">\n<TITLE></TITLE>\n</HEAD>\n<BODY>\n<!-- Converted from text/rtf format -->\n\nThe Convention 2026<br />September 30-October 2, 2026<br />Grand Traverse Resort & Spa<br />Acme, MI\n\n</BODY>\n</HTML>

LOCATION:Grand Traverse Resort & Spa, 100, Acme, Acme Township, Grand Traverse County, Michigan, 49610, United States of America
END:VEVENT

END:VCALENDAR
