BEGIN:VCALENDAR
VERSION:2.0
PRODID:-//hacksw/handcal//NONSGML v1.0//EN
BEGIN:VEVENT
UID:494ed23931aa6952bcc29ce5d74d8411
DTSTAMP:20260420T091722Z

DTSTART:20261105T090000
DTEND:20261108T170000
SUMMARY:The 2026 National Real Estate Investing Summit
DESCRIPTION:Let’s Turn the Big Challenges of the Market Into Wins!

X-ALT-DESC;FMTTYPE=text/html:<!DOCTYPE HTML PUBLIC "-//W3C//DTD HTML 3.2//EN">\n<HTML>\n<HEAD>\n<META NAME="Generator" CONTENT="MS Exchange Server version 08.00.0681.000">\n<TITLE></TITLE>\n</HEAD>\n<BODY>\n<!-- Converted from text/rtf format -->\n\nLet’s Turn the Big Challenges of the Market Into Wins!\n\n</BODY>\n</HTML>

LOCATION:2501, Great Wolf Drive, Deerfield Township, Warren County, Ohio, 45040, United States of America
END:VEVENT

END:VCALENDAR
