BEGIN:VCALENDAR
VERSION:2.0
PRODID:-//hacksw/handcal//NONSGML v1.0//EN
BEGIN:VEVENT
UID:453dfea3bd865c46e48915c308ce10e7
DTSTAMP:20260420T074229Z

DTSTART:20261011T090000
DTEND:20261014T170000
SUMMARY:2026 Mortgage Bankers Association (MBA) Annual Convention & Expo
DESCRIPTION:"Join us October 11-14 at the Hyatt Regency Chicago for MBA's Annual Convention and Expo (MBA Annual26), the nation's largest annual gathering of real estate finance professionals. Everyone who’s anyone in single-family real estate finance should be there to reconnect with old friends and make new ones while networking, learning, and getting inspired by an A-list speaker lineup.\n\nTake advantage of everything MBA Annual26 has to offer—the latest intel and insights on the evolving market and regulatory landscape, and other hot topics from speakers on the Main Stage and in breakout sessions; solution providers and tech demos in THE HUB EXPO; opportunities to meet and connect at lunch and networking events; and the highly anticipated Concert MBA."

X-ALT-DESC;FMTTYPE=text/html:<!DOCTYPE HTML PUBLIC "-//W3C//DTD HTML 3.2//EN">\n<HTML>\n<HEAD>\n<META NAME="Generator" CONTENT="MS Exchange Server version 08.00.0681.000">\n<TITLE></TITLE>\n</HEAD>\n<BODY>\n<!-- Converted from text/rtf format -->\n\n"Join us October 11-14 at the Hyatt Regency Chicago for MBA's Annual Convention and Expo (MBA Annual26), the nation's largest annual gathering of real estate finance professionals. Everyone who’s anyone in single-family real estate finance should be there to reconnect with old friends and make new ones while networking, learning, and getting inspired by an A-list speaker lineup.<br /><br />Take advantage of everything MBA Annual26 has to offer—the latest intel and insights on the evolving market and regulatory landscape, and other hot topics from speakers on the Main Stage and in breakout sessions; solution providers and tech demos in THE HUB EXPO; opportunities to meet and connect at lunch and networking events; and the highly anticipated Concert MBA."\n\n</BODY>\n</HTML>

LOCATION:Hyatt Regency Chicago, 151, East Upper Wacker Drive, New East Side, Loop, Chicago, South Chicago Township, Cook County, Illinois, 60601, United States of America
END:VEVENT

END:VCALENDAR
