BEGIN:VCALENDAR
VERSION:2.0
PRODID:-//hacksw/handcal//NONSGML v1.0//EN
BEGIN:VEVENT
UID:84470f8f1eff9064a9633c23330c2f42
DTSTAMP:20260420T140948Z

DTSTART:20251112T100000
DTEND:20251112T120000
SUMMARY:Navigating the Inspection
DESCRIPTION:Learn how to guide buyers through tough inspection reports, handle objections with ease, and transform challenges into smoother closings.\n\nInspections don’t have to feel like a gut punch! This class is designed to equip brokers with the tools to turn inspection stress into opportunity. Learn how to set buyer expectations, interpret reports, and coach clients through objections and negotiations. With real-life examples, role-playing exercises, and communication strategies, you’ll discover how to keep deals moving forward while protecting your clients’ best interests.\n\nThis class is full of practical strategies you can apply right away.\n\nCost - $20\nCredits - 2

X-ALT-DESC;FMTTYPE=text/html:<!DOCTYPE HTML PUBLIC "-//W3C//DTD HTML 3.2//EN">\n<HTML>\n<HEAD>\n<META NAME="Generator" CONTENT="MS Exchange Server version 08.00.0681.000">\n<TITLE></TITLE>\n</HEAD>\n<BODY>\n<!-- Converted from text/rtf format -->\n\nLearn how to guide buyers through tough inspection reports, handle objections with ease, and transform challenges into smoother closings.<br /><br />Inspections don’t have to feel like a gut punch! This class is designed to equip brokers with the tools to turn inspection stress into opportunity. Learn how to set buyer expectations, interpret reports, and coach clients through objections and negotiations. With real-life examples, role-playing exercises, and communication strategies, you’ll discover how to keep deals moving forward while protecting your clients’ best interests.<br /><br />This class is full of practical strategies you can apply right away.<br /><br />Cost - $20<br />Credits - 2\n\n</BODY>\n</HTML>

LOCATION:
END:VEVENT

END:VCALENDAR
