BEGIN:VCALENDAR
VERSION:2.0
PRODID:-//hacksw/handcal//NONSGML v1.0//EN
BEGIN:VEVENT
UID:4a7c498e5efbfa61dab2961447a86769
DTSTAMP:20260420T072617Z

DTSTART:20261031T090000
DTEND:20261103T170000
SUMMARY:2026 NAA Appraisal Summit
DESCRIPTION:The Appraisal Summit (formerly the Appraisal Summit and Expo) was started for three reasons.  First, with all the problems appraisers were having across the states in 2008 and 2009, we saw a need to pull them together, and give them an opportunity to exchange information on a national basis.  Second, we believed that while traditional CE classes might be good, they do not provide exposure to a wide variety of information from some of the most influential members of the valuation and financial services groups.  Third, it offers exposure to exhibitors who offer a wide variety of timely appraisal services.\n\nAttending the Summit gives you the opportunity to hear from appraisal leaders who are making a difference in the profession. \n\nThe Summit is focused on “the Boots on the Ground” appraiser, not the “suits.” \n\nNetworking… a lot of business communication is done via the phone, email, post, newsletters, and social media.  No matter how great they may be, they cannot replace face-to-face dialogue. \n\nEarn Appraiser Continuing Education (this includes pre-Summit education). \n\nHear what’s going on from a national perspective. \n\nGreat door prizes from exhibitors. \n\nParticipation gives you the opportunity to meet with other appraisers and form a network of resources.\n\nCelebrate your profession and your place in it.\n\nThe final reason… it’s just fun!\n\n

X-ALT-DESC;FMTTYPE=text/html:<!DOCTYPE HTML PUBLIC "-//W3C//DTD HTML 3.2//EN">\n<HTML>\n<HEAD>\n<META NAME="Generator" CONTENT="MS Exchange Server version 08.00.0681.000">\n<TITLE></TITLE>\n</HEAD>\n<BODY>\n<!-- Converted from text/rtf format -->\n\nThe Appraisal Summit (formerly the Appraisal Summit and Expo) was started for three reasons.  First, with all the problems appraisers were having across the states in 2008 and 2009, we saw a need to pull them together, and give them an opportunity to exchange information on a national basis.  Second, we believed that while traditional CE classes might be good, they do not provide exposure to a wide variety of information from some of the most influential members of the valuation and financial services groups.  Third, it offers exposure to exhibitors who offer a wide variety of timely appraisal services.<br /><br />Attending the Summit gives you the opportunity to hear from appraisal leaders who are making a difference in the profession. <br /><br />The Summit is focused on “the Boots on the Ground” appraiser, not the “suits.” <br /><br />Networking… a lot of business communication is done via the phone, email, post, newsletters, and social media.  No matter how great they may be, they cannot replace face-to-face dialogue. <br /><br />Earn Appraiser Continuing Education (this includes pre-Summit education). <br /><br />Hear what’s going on from a national perspective. <br /><br />Great door prizes from exhibitors. <br /><br />Participation gives you the opportunity to meet with other appraisers and form a network of resources.<br /><br />Celebrate your profession and your place in it.<br /><br />The final reason… it’s just fun!<br /><br />\n\n</BODY>\n</HTML>

LOCATION:Planet Hollywood Resort and Casino, 3667, South Las Vegas Boulevard, Las Vegas, Clark County, Nevada, 89109, United States of America
END:VEVENT

END:VCALENDAR
