BEGIN:VCALENDAR
VERSION:2.0
PRODID:-//hacksw/handcal//NONSGML v1.0//EN
BEGIN:VEVENT
UID:26939cbbdacd5bcdaee3de1e5f37e221
DTSTAMP:20260420T073919Z

DTSTART:20261014T090000
DTEND:20261015T170000
SUMMARY:Buffini & Company Leadership Conference 2026
DESCRIPTION:If you’re serious about leadership, this is where you belong. The Buffini Leadership Conference is the must-attend event for leaders ready to refine their strategy, strengthen their team, learn what’s stalling growth and scale with purpose. Learn from globally recognized speakers. Connect with a high-caliber network. And bring your best leaders along. Because the future isn’t built alone.\nThis is THE event for leaders.

X-ALT-DESC;FMTTYPE=text/html:<!DOCTYPE HTML PUBLIC "-//W3C//DTD HTML 3.2//EN">\n<HTML>\n<HEAD>\n<META NAME="Generator" CONTENT="MS Exchange Server version 08.00.0681.000">\n<TITLE></TITLE>\n</HEAD>\n<BODY>\n<!-- Converted from text/rtf format -->\n\nIf you’re serious about leadership, this is where you belong. The Buffini Leadership Conference is the must-attend event for leaders ready to refine their strategy, strengthen their team, learn what’s stalling growth and scale with purpose. Learn from globally recognized speakers. Connect with a high-caliber network. And bring your best leaders along. Because the future isn’t built alone.<br />This is THE event for leaders.\n\n</BODY>\n</HTML>

LOCATION:300, Reunion Boulevard, West End Historic District, Downtown PID, Dallas, Dallas County, Texas, 75207, United States of America
END:VEVENT

END:VCALENDAR
