BEGIN:VCALENDAR
VERSION:2.0
PRODID:-//hacksw/handcal//NONSGML v1.0//EN
BEGIN:VEVENT
UID:ee0af252e0f7d85bdd10d7d5918fb5dc
DTSTAMP:20260420T094338Z

DTSTART:20260503T090000
DTEND:20260506T170000
SUMMARY:Buffini & Company The Peak Experience 2026
DESCRIPTION:Buffini & Company’s most elite event, The Peak Experience, is a three-day conference designed specifically for top earners in real estate. Each year, an exclusive group of accomplished professionals gather in a beautiful location to learn from entrepreneur and master motivator Brian Buffini and carefully selected guest speakers. The content is customized and rich, the speakers are motivating and the atmosphere is ideal for inspiring next-level success in business and in life.

X-ALT-DESC;FMTTYPE=text/html:<!DOCTYPE HTML PUBLIC "-//W3C//DTD HTML 3.2//EN">\n<HTML>\n<HEAD>\n<META NAME="Generator" CONTENT="MS Exchange Server version 08.00.0681.000">\n<TITLE></TITLE>\n</HEAD>\n<BODY>\n<!-- Converted from text/rtf format -->\n\nBuffini & Company’s most elite event, The Peak Experience, is a three-day conference designed specifically for top earners in real estate. Each year, an exclusive group of accomplished professionals gather in a beautiful location to learn from entrepreneur and master motivator Brian Buffini and carefully selected guest speakers. The content is customized and rich, the speakers are motivating and the atmosphere is ideal for inspiring next-level success in business and in life.\n\n</BODY>\n</HTML>

LOCATION:The Ritz-Carlton, Kapalua Coastal Trail, The Ironwoods, Kapalua, Maui County, Hawaii, United States of America
END:VEVENT

END:VCALENDAR
