BEGIN:VCALENDAR
VERSION:2.0
PRODID:-//hacksw/handcal//NONSGML v1.0//EN
BEGIN:VEVENT
UID:3a71f7c832290c5a23ef83ba5ee86e90
DTSTAMP:20260420T034938Z

DTSTART:20260420T090000
DTEND:20260422T170000
SUMMARY:LRE® Spring Retreat 2026
DESCRIPTION:For more than 30 years, LRE® Events have been considered must-attend networking opportunities to connect professionals in the luxury real estate industry. Attendees come away with real connections that lead to new business. Visit the stunning beaches of Baha Mar, Bahamas on the island of New Providence, where you can experience the true essence of Paradise Island while expanding your business and networking with other leaders in the industry.

X-ALT-DESC;FMTTYPE=text/html:<!DOCTYPE HTML PUBLIC "-//W3C//DTD HTML 3.2//EN">\n<HTML>\n<HEAD>\n<META NAME="Generator" CONTENT="MS Exchange Server version 08.00.0681.000">\n<TITLE></TITLE>\n</HEAD>\n<BODY>\n<!-- Converted from text/rtf format -->\n\nFor more than 30 years, LRE® Events have been considered must-attend networking opportunities to connect professionals in the luxury real estate industry. Attendees come away with real connections that lead to new business. Visit the stunning beaches of Baha Mar, Bahamas on the island of New Providence, where you can experience the true essence of Paradise Island while expanding your business and networking with other leaders in the industry.\n\n</BODY>\n</HTML>

LOCATION:Baha Mar, West Bay Street, Nassau, New Providence, The Bahamas
END:VEVENT

END:VCALENDAR
