BEGIN:VCALENDAR
VERSION:2.0
PRODID:-//hacksw/handcal//NONSGML v1.0//EN
BEGIN:VEVENT
UID:c8d6ecc855d95c2e6cae65922df6dade
DTSTAMP:20260420T060917Z

DTSTART:20260415T090000
DTEND:20260417T170000
SUMMARY:2026 Arizona REALTORS® Spring Conference
DESCRIPTION:Invest in yourself and your career!\n\nKeeping up with changes in the dynamic real estate industry while serving your clients to the highest degree requires knowledge, poise, and confidence. During this year's Conference, you will gain knowledge, tools, and connections to propel your success.\n\nThere's something for everyone at this annual event! From informative sessions to engaging networking opportunities, this event will leave you feeling informed and motivated.\n\nYou'll find information, strategies, and connections specifically geared toward your career level, interests, and goals.\n\nDon't miss this opportunity to take your business to the next level because TOGETHER WE ARE STRONGER!

X-ALT-DESC;FMTTYPE=text/html:<!DOCTYPE HTML PUBLIC "-//W3C//DTD HTML 3.2//EN">\n<HTML>\n<HEAD>\n<META NAME="Generator" CONTENT="MS Exchange Server version 08.00.0681.000">\n<TITLE></TITLE>\n</HEAD>\n<BODY>\n<!-- Converted from text/rtf format -->\n\nInvest in yourself and your career!<br /><br />Keeping up with changes in the dynamic real estate industry while serving your clients to the highest degree requires knowledge, poise, and confidence. During this year's Conference, you will gain knowledge, tools, and connections to propel your success.<br /><br />There's something for everyone at this annual event! From informative sessions to engaging networking opportunities, this event will leave you feeling informed and motivated.<br /><br />You'll find information, strategies, and connections specifically geared toward your career level, interests, and goals.<br /><br />Don't miss this opportunity to take your business to the next level because TOGETHER WE ARE STRONGER!\n\n</BODY>\n</HTML>

LOCATION:Wild Horse Pass Hotel & Casino, 5040, Wild Horse Pass Boulevard, Chandler, Maricopa County, Arizona, 85226, United States of America
END:VEVENT

END:VCALENDAR
