BEGIN:VCALENDAR
VERSION:2.0
PRODID:-//hacksw/handcal//NONSGML v1.0//EN
BEGIN:VEVENT
UID:b0ee55ee25945eae66e48dc41d219cfc
DTSTAMP:20260420T093544Z

DTSTART:20260108T090000
DTEND:20260111T170000
SUMMARY:2026 Florida Realtors Mid-Winter Business Meetings
DESCRIPTION:The Florida Realtors® Mid-Winter Business Meetings enable members to collectively share ideas and make decisions that further the goals of Florida Realtors and the Florida real estate industry. This annual event also celebrates the incoming leadership team with a gala Inaugural Ball and other networking events.

X-ALT-DESC;FMTTYPE=text/html:<!DOCTYPE HTML PUBLIC "-//W3C//DTD HTML 3.2//EN">\n<HTML>\n<HEAD>\n<META NAME="Generator" CONTENT="MS Exchange Server version 08.00.0681.000">\n<TITLE></TITLE>\n</HEAD>\n<BODY>\n<!-- Converted from text/rtf format -->\n\nThe Florida Realtors® Mid-Winter Business Meetings enable members to collectively share ideas and make decisions that further the goals of Florida Realtors and the Florida real estate industry. This annual event also celebrates the incoming leadership team with a gala Inaugural Ball and other networking events.\n\n</BODY>\n</HTML>

LOCATION:Hyatt Regency Orlando, 9801, International Drive, Orlando, Orange County, Florida, 32819, United States of America
END:VEVENT

END:VCALENDAR
