BEGIN:VCALENDAR
VERSION:2.0
PRODID:-//hacksw/handcal//NONSGML v1.0//EN
BEGIN:VEVENT
UID:3540ca4a4c1f4e6990b516d433706490
DTSTAMP:20260420T060914Z

DTSTART:20260929T090000
DTEND:20261001T170000
SUMMARY:Iowa REALTORS® Convention 2026
DESCRIPTION:Each year, hundreds of Iowa REALTORS® come together in Des Moines for our signature event: Convention. \n\nOver three days, members enjoy top-tier education, delving into topics relevant to their everyday business and hearing from thought-leaders paving the way for the future. \n\nIowa REALTORS® committees meet throughout Convention, discussing issues and ideas that will propel our industry forward for years to come. \n\nThe week is capped off with our Inaugural Reception. We take time to celebrate our accomplishments, honor distinguished REALTORS® and usher in a new leadership team for the following year. \n\nWe can't wait to see you at the 2026 Iowa REALTORS® Convention in Des Moines, Sept. 29 - Oct. 1. 

X-ALT-DESC;FMTTYPE=text/html:<!DOCTYPE HTML PUBLIC "-//W3C//DTD HTML 3.2//EN">\n<HTML>\n<HEAD>\n<META NAME="Generator" CONTENT="MS Exchange Server version 08.00.0681.000">\n<TITLE></TITLE>\n</HEAD>\n<BODY>\n<!-- Converted from text/rtf format -->\n\nEach year, hundreds of Iowa REALTORS® come together in Des Moines for our signature event: Convention. <br /><br />Over three days, members enjoy top-tier education, delving into topics relevant to their everyday business and hearing from thought-leaders paving the way for the future. <br /><br />Iowa REALTORS® committees meet throughout Convention, discussing issues and ideas that will propel our industry forward for years to come. <br /><br />The week is capped off with our Inaugural Reception. We take time to celebrate our accomplishments, honor distinguished REALTORS® and usher in a new leadership team for the following year. <br /><br />We can't wait to see you at the 2026 Iowa REALTORS® Convention in Des Moines, Sept. 29 - Oct. 1. \n\n</BODY>\n</HTML>

LOCATION:Des Moines, Polk County, Iowa, United States of America
END:VEVENT

END:VCALENDAR
