BEGIN:VCALENDAR
VERSION:2.0
PRODID:-//hacksw/handcal//NONSGML v1.0//EN
BEGIN:VEVENT
UID:7dd4ff65764329f2ab1bd5829d5ccae7
DTSTAMP:20260420T105757Z

DTSTART:20260504T090000
DTEND:20260505T170000
SUMMARY:Iowa REALTORS® Summer Meetings 2026
DESCRIPTION:The Iowa REALTORS® Summer Meetings is an opportunity for REALTORS® to come together for two days of networking and engaging in thoughtful discussions to propel Iowa REALTORS® into the future. \n\nFor two days, you'll get a front row seat to what makes Iowa REALTORS® together for the better!

X-ALT-DESC;FMTTYPE=text/html:<!DOCTYPE HTML PUBLIC "-//W3C//DTD HTML 3.2//EN">\n<HTML>\n<HEAD>\n<META NAME="Generator" CONTENT="MS Exchange Server version 08.00.0681.000">\n<TITLE></TITLE>\n</HEAD>\n<BODY>\n<!-- Converted from text/rtf format -->\n\nThe Iowa REALTORS® Summer Meetings is an opportunity for REALTORS® to come together for two days of networking and engaging in thoughtful discussions to propel Iowa REALTORS® into the future. <br /><br />For two days, you'll get a front row seat to what makes Iowa REALTORS® together for the better!\n\n</BODY>\n</HTML>

LOCATION:Iowa City, Johnson County, Iowa, United States of America
END:VEVENT

END:VCALENDAR
