BEGIN:VCALENDAR
VERSION:2.0
PRODID:-//hacksw/handcal//NONSGML v1.0//EN
BEGIN:VEVENT
UID:6b18d1cc57355954ea883be98c5a6854
DTSTAMP:20260419T231812Z

DTSTART:20260202T090000
DTEND:20260205T170000
SUMMARY:Kentucky REALTORS® Legislative Meetings 2026
DESCRIPTION:Our Legislative Meeting takes place in February in Lexington, which brings members across the state together for governance meetings and to connect with our state legislators. Committees hold their inaugural meeting for the year and we hold an evening reception for members to mingle with their legislators. 

X-ALT-DESC;FMTTYPE=text/html:<!DOCTYPE HTML PUBLIC "-//W3C//DTD HTML 3.2//EN">\n<HTML>\n<HEAD>\n<META NAME="Generator" CONTENT="MS Exchange Server version 08.00.0681.000">\n<TITLE></TITLE>\n</HEAD>\n<BODY>\n<!-- Converted from text/rtf format -->\n\nOur Legislative Meeting takes place in February in Lexington, which brings members across the state together for governance meetings and to connect with our state legislators. Committees hold their inaugural meeting for the year and we hold an evening reception for members to mingle with their legislators. \n\n</BODY>\n</HTML>

LOCATION:Embassy Suites, 1801, Newtown Pike, Lexington, Fayette County, Kentucky, 40511, United States of America
END:VEVENT

END:VCALENDAR
