BEGIN:VCALENDAR
VERSION:2.0
PRODID:-//hacksw/handcal//NONSGML v1.0//EN
BEGIN:VEVENT
UID:cffd28b2fbf90c75545a5e09ec69a83f
DTSTAMP:20260420T141336Z

DTSTART:20260601T090000
DTEND:20260604T170000
SUMMARY:Kentucky REALTORS® Summer Meetings 2026
DESCRIPTION:"In June is our Summer Retreat. This is a business meeting always held at a fun location. The purpose of the meeting is to conduct association business while also having fun networking with fellow REALTORS® from across the state."

X-ALT-DESC;FMTTYPE=text/html:<!DOCTYPE HTML PUBLIC "-//W3C//DTD HTML 3.2//EN">\n<HTML>\n<HEAD>\n<META NAME="Generator" CONTENT="MS Exchange Server version 08.00.0681.000">\n<TITLE></TITLE>\n</HEAD>\n<BODY>\n<!-- Converted from text/rtf format -->\n\n"In June is our Summer Retreat. This is a business meeting always held at a fun location. The purpose of the meeting is to conduct association business while also having fun networking with fellow REALTORS® from across the state."\n\n</BODY>\n</HTML>

LOCATION:Owensboro Convention Center, 501, West 2nd Street, Owensboro, Daviess County, Kentucky, 42301, United States of America
END:VEVENT

END:VCALENDAR
