BEGIN:VCALENDAR
VERSION:2.0
PRODID:-//hacksw/handcal//NONSGML v1.0//EN
BEGIN:VEVENT
UID:dec837b789831382f72c5271c07da627
DTSTAMP:20260420T093604Z

DTSTART:20261005T090000
DTEND:20261008T170000
SUMMARY:Kentucky REALTORS® Annual Convention & Expo 2026
DESCRIPTION:September is our Annual Convention. Convention is four packed days of education and informational sessions, networking and committee meetings. It is a must attend event for all members.

X-ALT-DESC;FMTTYPE=text/html:<!DOCTYPE HTML PUBLIC "-//W3C//DTD HTML 3.2//EN">\n<HTML>\n<HEAD>\n<META NAME="Generator" CONTENT="MS Exchange Server version 08.00.0681.000">\n<TITLE></TITLE>\n</HEAD>\n<BODY>\n<!-- Converted from text/rtf format -->\n\nSeptember is our Annual Convention. Convention is four packed days of education and informational sessions, networking and committee meetings. It is a must attend event for all members.\n\n</BODY>\n</HTML>

LOCATION:1, West Rivercenter Boulevard, RiverCenter, Covington, Kenton County, Kentucky, 41011, United States of America
END:VEVENT

END:VCALENDAR
