BEGIN:VCALENDAR
VERSION:2.0
PRODID:-//hacksw/handcal//NONSGML v1.0//EN
BEGIN:VEVENT
UID:98464f94091ebc37f99e52bf8094e2be
DTSTAMP:20260419T171102Z

DTSTART:20261006T090000
DTEND:20261008T170000
SUMMARY:Maine Realtors 2026 Annual Convention
DESCRIPTION:2026 Annual Convention\nOctober 6-8, 2026\nSamoset Resort, Rockport

X-ALT-DESC;FMTTYPE=text/html:<!DOCTYPE HTML PUBLIC "-//W3C//DTD HTML 3.2//EN">\n<HTML>\n<HEAD>\n<META NAME="Generator" CONTENT="MS Exchange Server version 08.00.0681.000">\n<TITLE></TITLE>\n</HEAD>\n<BODY>\n<!-- Converted from text/rtf format -->\n\n2026 Annual Convention<br />October 6-8, 2026<br />Samoset Resort, Rockport\n\n</BODY>\n</HTML>

LOCATION:Samoset Resort Hotel, 220, Warrenton Street, Glen Cove, Rockport, Knox County, Maine, 04856, United States of America
END:VEVENT

END:VCALENDAR
