BEGIN:VCALENDAR
VERSION:2.0
PRODID:-//hacksw/handcal//NONSGML v1.0//EN
BEGIN:VEVENT
UID:9f9f1e45bab57e77935ba94ff9e20e2c
DTSTAMP:20260420T074040Z

DTSTART:20260928T090000
DTEND:20261001T170000
SUMMARY:Maryland REALTORS® Annual Conference 2026
DESCRIPTION:Monday September 28th - Thursday October 1st\nOcean City, MD

X-ALT-DESC;FMTTYPE=text/html:<!DOCTYPE HTML PUBLIC "-//W3C//DTD HTML 3.2//EN">\n<HTML>\n<HEAD>\n<META NAME="Generator" CONTENT="MS Exchange Server version 08.00.0681.000">\n<TITLE></TITLE>\n</HEAD>\n<BODY>\n<!-- Converted from text/rtf format -->\n\nMonday September 28th - Thursday October 1st<br />Ocean City, MD\n\n</BODY>\n</HTML>

LOCATION:Ocean City, Worcester County, Maryland, United States of America
END:VEVENT

END:VCALENDAR
