BEGIN:VCALENDAR
VERSION:2.0
PRODID:-//hacksw/handcal//NONSGML v1.0//EN
BEGIN:VEVENT
UID:a1f46d7e3fa181a20687c3034cc057a5
DTSTAMP:20260420T022623Z

DTSTART:20190923T100000
DTEND:20190923T140000
SUMMARY:Annual Commission Update 4CE
DESCRIPTION:Join us for the Mandatory Annual Commission Update course! This mandatory course provides the latest updates for Colorado real estate agents and equips you with information surrounding property disclosure issues, wire fraud, firpta and more.\n\nCE Credits: 4\n\nInstructor: Philip Kranefuss

X-ALT-DESC;FMTTYPE=text/html:<!DOCTYPE HTML PUBLIC "-//W3C//DTD HTML 3.2//EN">\n<HTML>\n<HEAD>\n<META NAME="Generator" CONTENT="MS Exchange Server version 08.00.0681.000">\n<TITLE></TITLE>\n</HEAD>\n<BODY>\n<!-- Converted from text/rtf format -->\n\nJoin us for the Mandatory Annual Commission Update course! This mandatory course provides the latest updates for Colorado real estate agents and equips you with information surrounding property disclosure issues, wire fraud, firpta and more.<br /><br />CE Credits: 4<br /><br />Instructor: Philip Kranefuss\n\n</BODY>\n</HTML>

LOCATION:3900 S Wadsworth Blvd, Lakewood, CO 80235, USA
END:VEVENT

END:VCALENDAR
