BEGIN:VCALENDAR
VERSION:2.0
PRODID:-//hacksw/handcal//NONSGML v1.0//EN
BEGIN:VEVENT
UID:538d23a4291270032dd8193bc8f6e284
DTSTAMP:20260420T042424Z

DTSTART:20260408T090000
DTEND:20260410T170000
SUMMARY:Montana Realtors® 2026 Spring Business Meetings
DESCRIPTION:2026 Spring Business Meetings\n\nApril 8-10, 2026  |  Helena, MT  | Great Northern Hotel

X-ALT-DESC;FMTTYPE=text/html:<!DOCTYPE HTML PUBLIC "-//W3C//DTD HTML 3.2//EN">\n<HTML>\n<HEAD>\n<META NAME="Generator" CONTENT="MS Exchange Server version 08.00.0681.000">\n<TITLE></TITLE>\n</HEAD>\n<BODY>\n<!-- Converted from text/rtf format -->\n\n2026 Spring Business Meetings<br /><br />April 8-10, 2026  |  Helena, MT  | Great Northern Hotel\n\n</BODY>\n</HTML>

LOCATION:Helena, Lewis and Clark County, Montana, United States of America
END:VEVENT

END:VCALENDAR
