BEGIN:VCALENDAR
VERSION:2.0
PRODID:-//hacksw/handcal//NONSGML v1.0//EN
BEGIN:VEVENT
UID:5ddd94eb39b29fea9342ba0e8bc2ee2e
DTSTAMP:20260420T010000Z

DTSTART:20260916T090000
DTEND:20260918T170000
SUMMARY:Montana Realtors® 2026 MAR Fall Convention
DESCRIPTION:2026 MAR Fall Convention\n\nSeptember 16-18, 2026  |  Missoula, MT  | Hilton Garden Inn

X-ALT-DESC;FMTTYPE=text/html:<!DOCTYPE HTML PUBLIC "-//W3C//DTD HTML 3.2//EN">\n<HTML>\n<HEAD>\n<META NAME="Generator" CONTENT="MS Exchange Server version 08.00.0681.000">\n<TITLE></TITLE>\n</HEAD>\n<BODY>\n<!-- Converted from text/rtf format -->\n\n2026 MAR Fall Convention<br /><br />September 16-18, 2026  |  Missoula, MT  | Hilton Garden Inn\n\n</BODY>\n</HTML>

LOCATION:Missoula, Missoula County, Montana, United States of America
END:VEVENT

END:VCALENDAR
