BEGIN:VCALENDAR
VERSION:2.0
PRODID:-//hacksw/handcal//NONSGML v1.0//EN
BEGIN:VEVENT
UID:20475ae38890628e282cea174a624bb6
DTSTAMP:20260420T032114Z

DTSTART:20260126T090000
DTEND:20260130T170000
SUMMARY:North Carolina REALTORS® - Winter Leadership Meetings 2026
DESCRIPTION:"Join us January 26-30 in Greensboro, NC!"

X-ALT-DESC;FMTTYPE=text/html:<!DOCTYPE HTML PUBLIC "-//W3C//DTD HTML 3.2//EN">\n<HTML>\n<HEAD>\n<META NAME="Generator" CONTENT="MS Exchange Server version 08.00.0681.000">\n<TITLE></TITLE>\n</HEAD>\n<BODY>\n<!-- Converted from text/rtf format -->\n\n"Join us January 26-30 in Greensboro, NC!"\n\n</BODY>\n</HTML>

LOCATION:1000, Club Road, Greensboro, Guilford County, North Carolina, 27407, United States of America
END:VEVENT

END:VCALENDAR
