BEGIN:VCALENDAR
VERSION:2.0
PRODID:-//hacksw/handcal//NONSGML v1.0//EN
BEGIN:VEVENT
UID:e6f8a9a6ec1ab5719ef0c19900587810
DTSTAMP:20260420T124255Z

DTSTART:20260721T090000
DTEND:20260724T170000
SUMMARY:North Carolina REALTORS® - Regional AE Conference 2026
DESCRIPTION:Targeting local association executives in the Southeast, this annual event is a forum to share what is happening at the national and state levels and how issues and opportunities impact members at the local level. This event provides association executives, from CEOs to directors to managers, epic opportunities to network with their peers from other associations.\n\nAttendance at this event offers an estimated 16 hours of Professional Development Training that will count towards Core Standards requirements. The event is hosted by the NC REALTORS® and the Georgia REALTORS® and rotates between the two states.

X-ALT-DESC;FMTTYPE=text/html:<!DOCTYPE HTML PUBLIC "-//W3C//DTD HTML 3.2//EN">\n<HTML>\n<HEAD>\n<META NAME="Generator" CONTENT="MS Exchange Server version 08.00.0681.000">\n<TITLE></TITLE>\n</HEAD>\n<BODY>\n<!-- Converted from text/rtf format -->\n\nTargeting local association executives in the Southeast, this annual event is a forum to share what is happening at the national and state levels and how issues and opportunities impact members at the local level. This event provides association executives, from CEOs to directors to managers, epic opportunities to network with their peers from other associations.<br /><br />Attendance at this event offers an estimated 16 hours of Professional Development Training that will count towards Core Standards requirements. The event is hosted by the NC REALTORS® and the Georgia REALTORS® and rotates between the two states.\n\n</BODY>\n</HTML>

LOCATION:Brasstown Valley Resort & Spa, Brasstown Way, Towns County, Georgia, 30582, United States of America
END:VEVENT

END:VCALENDAR
