BEGIN:VCALENDAR
VERSION:2.0
PRODID:-//hacksw/handcal//NONSGML v1.0//EN
BEGIN:VEVENT
UID:0f8cf2fe2387f1ea8e19e2b1de7499fe
DTSTAMP:20260420T074000Z

DTSTART:20261008T090000
DTEND:20261011T170000
SUMMARY:North Carolina REALTORS® - 2026 Convention
DESCRIPTION:"Our largest and most popular event of the year aims to inspire, motivate and educate REALTORS® from across North Carolina."\n\n2026 Convention\nOctober 8-11, 2026\nWilmington Convention Center, Wilmington, NC\n\nREGISTRATION LAUNCHES MAY 13, 2026

X-ALT-DESC;FMTTYPE=text/html:<!DOCTYPE HTML PUBLIC "-//W3C//DTD HTML 3.2//EN">\n<HTML>\n<HEAD>\n<META NAME="Generator" CONTENT="MS Exchange Server version 08.00.0681.000">\n<TITLE></TITLE>\n</HEAD>\n<BODY>\n<!-- Converted from text/rtf format -->\n\n"Our largest and most popular event of the year aims to inspire, motivate and educate REALTORS® from across North Carolina."<br /><br />2026 Convention<br />October 8-11, 2026<br />Wilmington Convention Center, Wilmington, NC<br /><br />REGISTRATION LAUNCHES MAY 13, 2026\n\n</BODY>\n</HTML>

LOCATION:Wilmington Convention Center, Convention Center Drive, Wilmington, New Hanover County, North Carolina, 28401, United States of America
END:VEVENT

END:VCALENDAR
