BEGIN:VCALENDAR
VERSION:2.0
PRODID:-//hacksw/handcal//NONSGML v1.0//EN
BEGIN:VEVENT
UID:1776b35075d0692012ed15ce2d8c716d
DTSTAMP:20260420T095405Z

DTSTART:20251209T100000
DTEND:20251209T120000
SUMMARY:Contracts & Forms Changes Update - Dec 9
DESCRIPTION:Tuesday, December 9th 2025, from 10:00AM – 12:00PM\nPresented By Beth Anne Demeter of The Educated Agent\n2 CE | $20\n\nElevate and evolve your real estate business with a review of the most relevant points in the 2026 Contracts & Forms! Confidently preparing, negotiating and explaining real estate contracts means having a head start on changes. This class will review the redline version of contracts and forms recently updated and effective for use starting January 1st, 2026. We’ll review the most significant revisions, related regulatory changes and house / senate bills, contributing Commission Position Statements and other issues affecting real estate. This is worth 2 CE Credits.

X-ALT-DESC;FMTTYPE=text/html:<!DOCTYPE HTML PUBLIC "-//W3C//DTD HTML 3.2//EN">\n<HTML>\n<HEAD>\n<META NAME="Generator" CONTENT="MS Exchange Server version 08.00.0681.000">\n<TITLE></TITLE>\n</HEAD>\n<BODY>\n<!-- Converted from text/rtf format -->\n\nTuesday, December 9th 2025, from 10:00AM – 12:00PM<br />Presented By Beth Anne Demeter of The Educated Agent<br />2 CE | $20<br /><br />Elevate and evolve your real estate business with a review of the most relevant points in the 2026 Contracts & Forms! Confidently preparing, negotiating and explaining real estate contracts means having a head start on changes. This class will review the redline version of contracts and forms recently updated and effective for use starting January 1st, 2026. We’ll review the most significant revisions, related regulatory changes and house / senate bills, contributing Commission Position Statements and other issues affecting real estate. This is worth 2 CE Credits.\n\n</BODY>\n</HTML>

LOCATION:
END:VEVENT

END:VCALENDAR
