BEGIN:VCALENDAR
VERSION:2.0
PRODID:-//hacksw/handcal//NONSGML v1.0//EN
BEGIN:VEVENT
UID:02d90adf1b7902cb27dbba1931026745
DTSTAMP:20260420T060934Z

DTSTART:20260202T090000
DTEND:20260203T170000
SUMMARY:Ohio Realtors 2026 Winter Conference 
DESCRIPTION:Event Highlights: \n- Brunch \n- NAR Keynote Speaker\n- RPAC Panel Discussion \n- Group Breakout Sessions \n- Happy Hour\n\nEarn 5.5 Hours of CE Stay ahead with sessions on the latest legislative updates, key legal issues, and harnessing the technologies impacting real estate. Plus, don’t miss Lunch Box Economics with Lawrence Yun, NAR Chief Economist and Senior Vice President of Research, as he presents an all-new 2026 Housing & Economics forecast.\n\n

X-ALT-DESC;FMTTYPE=text/html:<!DOCTYPE HTML PUBLIC "-//W3C//DTD HTML 3.2//EN">\n<HTML>\n<HEAD>\n<META NAME="Generator" CONTENT="MS Exchange Server version 08.00.0681.000">\n<TITLE></TITLE>\n</HEAD>\n<BODY>\n<!-- Converted from text/rtf format -->\n\nEvent Highlights: <br />- Brunch <br />- NAR Keynote Speaker<br />- RPAC Panel Discussion <br />- Group Breakout Sessions <br />- Happy Hour<br /><br />Earn 5.5 Hours of CE Stay ahead with sessions on the latest legislative updates, key legal issues, and harnessing the technologies impacting real estate. Plus, don’t miss Lunch Box Economics with Lawrence Yun, NAR Chief Economist and Senior Vice President of Research, as he presents an all-new 2026 Housing & Economics forecast.<br /><br />\n\n</BODY>\n</HTML>

LOCATION:Hilton Columbus at Easton, 3900, Chagrin Drive, Easton, Columbus, Sharon, Franklin County, Ohio, 43219, United States of America
END:VEVENT

END:VCALENDAR
